BEGIN:VCALENDAR
VERSION:2.0
PRODID:-//The American Brittany Club - ECPv6.15.20//NONSGML v1.0//EN
CALSCALE:GREGORIAN
METHOD:PUBLISH
X-WR-CALNAME:The American Brittany Club
X-ORIGINAL-URL:https://theamericanbrittanyclub.org
X-WR-CALDESC:Events for The American Brittany Club
REFRESH-INTERVAL;VALUE=DURATION:PT1H
X-Robots-Tag:noindex
X-PUBLISHED-TTL:PT1H
BEGIN:VTIMEZONE
TZID:America/New_York
BEGIN:DAYLIGHT
TZOFFSETFROM:-0500
TZOFFSETTO:-0400
TZNAME:EDT
DTSTART:20240310T070000
END:DAYLIGHT
BEGIN:STANDARD
TZOFFSETFROM:-0400
TZOFFSETTO:-0500
TZNAME:EST
DTSTART:20241103T060000
END:STANDARD
BEGIN:DAYLIGHT
TZOFFSETFROM:-0500
TZOFFSETTO:-0400
TZNAME:EDT
DTSTART:20250309T070000
END:DAYLIGHT
BEGIN:STANDARD
TZOFFSETFROM:-0400
TZOFFSETTO:-0500
TZNAME:EST
DTSTART:20251102T060000
END:STANDARD
BEGIN:DAYLIGHT
TZOFFSETFROM:-0500
TZOFFSETTO:-0400
TZNAME:EDT
DTSTART:20260308T070000
END:DAYLIGHT
BEGIN:STANDARD
TZOFFSETFROM:-0400
TZOFFSETTO:-0500
TZNAME:EST
DTSTART:20261101T060000
END:STANDARD
END:VTIMEZONE
BEGIN:VEVENT
DTSTART;VALUE=DATE:20250403
DTEND;VALUE=DATE:20250405
DTSTAMP:20260422T012549
CREATED:20250306T224352Z
LAST-MODIFIED:20250314T013313Z
UID:2117-1743638400-1743811199@theamericanbrittanyclub.org
SUMMARY:ABC Futurity (Central Region)
DESCRIPTION:ABC Futurity – Central Region\nHost Club:\nIowa Brittany Club \nField: April 3\, 2025\nBird Dog Ranch\nThayer\, IA \nShow: April 4\, 2025\nUnion Co. Fairgrounds\nAfton\, IA \nSection Mgr:\nKen Windom\ndualdogbritt@huxcomm.net\n515-321-8670 \nSection Secretary:\nKendall Brown\nkendallbrown4338@gmail.com\n641-799-0906 \n 
URL:https://theamericanbrittanyclub.org/event/abc-futurity-central-region/
CATEGORIES:Futurity
END:VEVENT
BEGIN:VEVENT
DTSTART;VALUE=DATE:20250410
DTEND;VALUE=DATE:20250412
DTSTAMP:20260422T012549
CREATED:20250306T224705Z
LAST-MODIFIED:20250325T180021Z
UID:2121-1744243200-1744415999@theamericanbrittanyclub.org
SUMMARY:ABC Futurity (Eastern Region)
DESCRIPTION:ABC Futurity – Eastern Region\nHost Club:\nKentucky Brittany Club \nShow: April 10\, 2025\nHarrisville Firemans Hall\nHarrisville\, PA \nField: April 11\, 2025\nOak Ridge Pointing Dog Club\nHarrisville\, PA \nSection Mgr:\nJeff Currier\njcchbritte@gmail.com\n610-360-2701 \nSection Secretary:\nLinda McCartney\ntriumph826@gmail.com\n484-506-4116
URL:https://theamericanbrittanyclub.org/event/abc-futurity-eastern-region/
CATEGORIES:Futurity
END:VEVENT
END:VCALENDAR