BEGIN:VCALENDAR
VERSION:2.0
PRODID:-//The American Brittany Club - ECPv6.15.20//NONSGML v1.0//EN
CALSCALE:GREGORIAN
METHOD:PUBLISH
X-ORIGINAL-URL:https://theamericanbrittanyclub.org
X-WR-CALDESC:Events for The American Brittany Club
REFRESH-INTERVAL;VALUE=DURATION:PT1H
X-Robots-Tag:noindex
X-PUBLISHED-TTL:PT1H
BEGIN:VTIMEZONE
TZID:America/New_York
BEGIN:DAYLIGHT
TZOFFSETFROM:-0500
TZOFFSETTO:-0400
TZNAME:EDT
DTSTART:20240310T070000
END:DAYLIGHT
BEGIN:STANDARD
TZOFFSETFROM:-0400
TZOFFSETTO:-0500
TZNAME:EST
DTSTART:20241103T060000
END:STANDARD
BEGIN:DAYLIGHT
TZOFFSETFROM:-0500
TZOFFSETTO:-0400
TZNAME:EDT
DTSTART:20250309T070000
END:DAYLIGHT
BEGIN:STANDARD
TZOFFSETFROM:-0400
TZOFFSETTO:-0500
TZNAME:EST
DTSTART:20251102T060000
END:STANDARD
BEGIN:DAYLIGHT
TZOFFSETFROM:-0500
TZOFFSETTO:-0400
TZNAME:EDT
DTSTART:20260308T070000
END:DAYLIGHT
BEGIN:STANDARD
TZOFFSETFROM:-0400
TZOFFSETTO:-0500
TZNAME:EST
DTSTART:20261101T060000
END:STANDARD
END:VTIMEZONE
BEGIN:VEVENT
DTSTART;VALUE=DATE:20250517
DTEND;VALUE=DATE:20250519
DTSTAMP:20260421T194750
CREATED:20250306T141814Z
LAST-MODIFIED:20250313T224424Z
UID:2033-1747440000-1747612799@theamericanbrittanyclub.org
SUMMARY:FT: Northern New England
DESCRIPTION:Northern New England Brittany Club\nEvent No: 2025284601\nFranklin Falls Flood Control Area\nFranklin\, NH\nPended\nFT Pointing Breed\nClosing Date: Wednesday – May 14\, 2025\nClosing Time: 06:00:00 PM\nTime Zone: EASTERN \nFor additional information contact:\nSherri C. Thayer\, Event Secretary\n206B Atlantic Avenue\nNorth Hampton\, NH 03862\n(603) 964-3779\nbsbritts88@gmail.com
URL:https://theamericanbrittanyclub.org/event/ft-northern-new-england-brittany-club/
LOCATION:Franklin Falls Flood Control Area\, Franklin\, NH\, Franklin\, New Hampshire
CATEGORIES:Field Trial
END:VEVENT
BEGIN:VEVENT
DTSTART;VALUE=DATE:20250517
DTEND;VALUE=DATE:20250519
DTSTAMP:20260421T194750
CREATED:20250306T142120Z
LAST-MODIFIED:20250313T224317Z
UID:2037-1747440000-1747612799@theamericanbrittanyclub.org
SUMMARY:FT: Minnesota
DESCRIPTION:Minnesota Brittany Club\nEvent No: 2025148203\nWillow Creek Kennel\nLittle Falls\, MN\nWeb Site:http://www.minnesotabrittanyclub.org\nPended\nFT Pointing Breed\nClosing Date: Tuesday – May 13\, 2025\nClosing Time: 12:00:00 PM\nTime Zone: CENTRAL \nFor additional information contact:\nDiane Hedstrom\, Event Secretary\n3433 105th Ave\nClear Lake\, MN 55319\n(320) 743-2911\nbantam@earthlink.net
URL:https://theamericanbrittanyclub.org/event/ft-minnesota-brittany-club-2/
LOCATION:Willow Creek Kennel Little Falls\, MN\, Little Falls\, Minnesota
CATEGORIES:Field Trial
END:VEVENT
BEGIN:VEVENT
DTSTART;VALUE=DATE:20250517
DTEND;VALUE=DATE:20250519
DTSTAMP:20260421T194750
CREATED:20250311T191926Z
LAST-MODIFIED:20260316T191004Z
UID:2297-1747440000-1747612799@theamericanbrittanyclub.org
SUMMARY:FT: Michigan Saginaw
DESCRIPTION:Michigan Saginaw Brittany Club \n(pending)
URL:https://theamericanbrittanyclub.org/event/ft-michigan-saginaw/
LOCATION:-pending-
CATEGORIES:Field Trial
END:VEVENT
BEGIN:VEVENT
DTSTART;VALUE=DATE:20250524
DTEND;VALUE=DATE:20250526
DTSTAMP:20260421T194750
CREATED:20250306T142238Z
LAST-MODIFIED:20250313T224128Z
UID:2039-1748044800-1748217599@theamericanbrittanyclub.org
SUMMARY:FT: Washington
DESCRIPTION:Washington Brittany Club\, Inc.\nEvent No: 2025144902\nStillwater Wildlife Area Unit\nStill Water\, WA\nWeb Site:http://www.wabrittanyclub.com\nApproved\nFT Pointing Breed\nClosing Date: Tuesday – May 20\, 2025\nTime Zone: PACIFIC \nFor additional information contact:\nNancy Noble\, Event Secretary\n15716 3 LAKES RD\nSnohomish\, WA 98290-4615\n(425) 334-0242\nwbc.nancy.noble@gmail.com
URL:https://theamericanbrittanyclub.org/event/ft-washington-brittany-club-2/
LOCATION:Stillwater Wildlife Area Unit\, Still Water\, WA\, Still Water\, WA\, 98053\, United States
CATEGORIES:Field Trial
END:VEVENT
BEGIN:VEVENT
DTSTART;VALUE=DATE:20250524
DTEND;VALUE=DATE:20250526
DTSTAMP:20260421T194750
CREATED:20250306T142355Z
LAST-MODIFIED:20250313T223003Z
UID:2041-1748044800-1748217599@theamericanbrittanyclub.org
SUMMARY:FT: Minnesota
DESCRIPTION:Minnesota Brittany Club\nEvent No: 2025148204\nSheyenne National Grasslands\nHankinson\, ND\nWeb Site:http://www.minnesotabrittanyclub.org\nApproved\nFT Pointing Breed\nClosing Date: Monday – May 19\, 2025\nClosing Time: 12:00:00 PM\nTime Zone: CENTRAL \nFor additional information contact:\nJake Droel\, Event Secretary\nPO BOX 320\nEast Bethel\, IA 55005\n(651) 472-2069\njdroel40@gmail.comm
URL:https://theamericanbrittanyclub.org/event/ft-minnesota-brittany-club-3/
LOCATION:Sheyenne National Grasslands\, Hankinson\, ND\, Hankinson\, North Dakota
CATEGORIES:Field Trial
END:VEVENT
BEGIN:VEVENT
DTSTART;VALUE=DATE:20250524
DTEND;VALUE=DATE:20250526
DTSTAMP:20260421T194750
CREATED:20250306T142453Z
LAST-MODIFIED:20250313T222409Z
UID:2043-1748044800-1748217599@theamericanbrittanyclub.org
SUMMARY:FT: Central Maine
DESCRIPTION:Central Maine Brittany Club\nEvent No: 2025240603\nBrownfield Grounds\nFryeburg\, ME\nPended\nFT Pointing Breed\nClosing Date: Wednesday – May 21\, 2025\nClosing Time: 07:00:00 PM\nTime Zone: No Time Zone Available \nFor additional information contact:\nJon Farr\, Event Secretary\n210 SALMON FALLS RD\nHOLLIS CENTER\, ME 04042-4134\n(207) 807-7866\njfcomerce@gmail.com
URL:https://theamericanbrittanyclub.org/event/ft-central-maine-brittany-club/
LOCATION:Brownfield Grounds\, Fryeburg\, ME\, Fryeburg\, Maine
CATEGORIES:Field Trial
END:VEVENT
BEGIN:VEVENT
DTSTART;VALUE=DATE:20250524
DTEND;VALUE=DATE:20250526
DTSTAMP:20260421T194750
CREATED:20250306T232215Z
LAST-MODIFIED:20250313T225513Z
UID:2140-1748044800-1748217599@theamericanbrittanyclub.org
SUMMARY:FT: Greater Phoenix
DESCRIPTION:Greater Phoenix Brittany Club Walking Field Trial \n(pending)
URL:https://theamericanbrittanyclub.org/event/ft-greater-phoenix-brittany-club-2/
LOCATION:-pending-
CATEGORIES:Field Trial
END:VEVENT
BEGIN:VEVENT
DTSTART;VALUE=DATE:20250531
DTEND;VALUE=DATE:20250602
DTSTAMP:20260421T194750
CREATED:20250306T142558Z
LAST-MODIFIED:20250313T222611Z
UID:2045-1748649600-1748822399@theamericanbrittanyclub.org
SUMMARY:FT: Minnesota
DESCRIPTION:Minnesota Brittany Club\nEvent No: 2025148205\nFour Brooks WMA\nMilaca\, MN\nWeb Site:http://www.minnesotabrittanyclub.org\nPended\nFT Pointing Breed\nClosing Date: Tuesday – May 27\, 2025\nClosing Time: 12:00:00 PM\nTime Zone: CENTRAL \nFor additional information contact:\nMarcia L Magnuson\, Event Secretary\n12240 Ingersoll Ave N\nHugo\, MN 55038\n(605) 908-3602\nminnesotamike@hotmail.com
URL:https://theamericanbrittanyclub.org/event/ft-minnesota-brittany-club-4/
CATEGORIES:Field Trial
END:VEVENT
BEGIN:VEVENT
DTSTART;VALUE=DATE:20250809
DTEND;VALUE=DATE:20250811
DTSTAMP:20260421T194750
CREATED:20250321T155727Z
LAST-MODIFIED:20250618T165249Z
UID:2800-1754697600-1754870399@theamericanbrittanyclub.org
SUMMARY:FT: Northern California (w)
DESCRIPTION:Northern California Walking Field Trial \n(pending)
URL:https://theamericanbrittanyclub.org/event/ft-northern-california/
LOCATION:-pending-
CATEGORIES:Field Trial
END:VEVENT
BEGIN:VEVENT
DTSTART;VALUE=DATE:20250829
DTEND;VALUE=DATE:20250831
DTSTAMP:20260421T194750
CREATED:20250321T160205Z
LAST-MODIFIED:20250522T144122Z
UID:2806-1756425600-1756598399@theamericanbrittanyclub.org
SUMMARY:FT: Sahuaro
DESCRIPTION:Sahuaro Brittany Club Field Trial \n(pending)
URL:https://theamericanbrittanyclub.org/event/ft-sahuaro/
LOCATION:-pending-
CATEGORIES:Field Trial
END:VEVENT
BEGIN:VEVENT
DTSTART;VALUE=DATE:20250830
DTEND;VALUE=DATE:20250902
DTSTAMP:20260421T194750
CREATED:20250321T160008Z
LAST-MODIFIED:20250616T223313Z
UID:2804-1756512000-1756771199@theamericanbrittanyclub.org
SUMMARY:FT: Western Michigan
DESCRIPTION:Western Michigan Brittany Club Field Trail \n(pending)
URL:https://theamericanbrittanyclub.org/event/ft-western-michigan/
LOCATION:-pending-
CATEGORIES:Field Trial
END:VEVENT
BEGIN:VEVENT
DTSTART;VALUE=DATE:20250831
DTEND;VALUE=DATE:20250902
DTSTAMP:20260421T194750
CREATED:20250321T160803Z
LAST-MODIFIED:20250522T143918Z
UID:2814-1756598400-1756771199@theamericanbrittanyclub.org
SUMMARY:FT: Greater Phoenix
DESCRIPTION:Greater Phoenix Brittany Club Field Trial \n(pending)
URL:https://theamericanbrittanyclub.org/event/ft-greater-phoenix/
LOCATION:-pending-
CATEGORIES:Field Trial
END:VEVENT
BEGIN:VEVENT
DTSTART;VALUE=DATE:20250905
DTEND;VALUE=DATE:20250908
DTSTAMP:20260421T194750
CREATED:20250321T160616Z
LAST-MODIFIED:20250321T161120Z
UID:2812-1757030400-1757289599@theamericanbrittanyclub.org
SUMMARY:FT: Michigan Saginaw
DESCRIPTION:Michigan Saginaw Brittany Club Field Trail \n(pending)
URL:https://theamericanbrittanyclub.org/event/ft-michigan-saginaw-2/
LOCATION:-pending-
CATEGORIES:Field Trial
END:VEVENT
BEGIN:VEVENT
DTSTART;VALUE=DATE:20250913
DTEND;VALUE=DATE:20250915
DTSTAMP:20260421T194750
CREATED:20250321T161234Z
LAST-MODIFIED:20250321T161234Z
UID:2820-1757721600-1757894399@theamericanbrittanyclub.org
SUMMARY:FT: Niagara Frontier
DESCRIPTION:Niagara Frontier Brittany Club Field Trial \n(pending)
URL:https://theamericanbrittanyclub.org/event/ft-niagara-frontier/
LOCATION:-pending-
CATEGORIES:Field Trial
END:VEVENT
BEGIN:VEVENT
DTSTART;VALUE=DATE:20250913
DTEND;VALUE=DATE:20250915
DTSTAMP:20260421T194750
CREATED:20250409T142515Z
LAST-MODIFIED:20260214T043427Z
UID:3220-1757721600-1757894399@theamericanbrittanyclub.org
SUMMARY:FT: Greater Milwaukee
DESCRIPTION:Greater Milwaukee Field Trial \n(pending)
URL:https://theamericanbrittanyclub.org/event/ft-greater-milwaukee/
LOCATION:-pending-
CATEGORIES:Field Trial
END:VEVENT
BEGIN:VEVENT
DTSTART;VALUE=DATE:20250919
DTEND;VALUE=DATE:20250922
DTSTAMP:20260421T194750
CREATED:20250616T223024Z
LAST-MODIFIED:20260327T034321Z
UID:3653-1758240000-1758499199@theamericanbrittanyclub.org
SUMMARY:FT: Michigan
DESCRIPTION:Michigan Brittany Club Field Trial
URL:https://theamericanbrittanyclub.org/event/ft-michigan-2/
LOCATION:-pending-
CATEGORIES:Field Trial
END:VEVENT
BEGIN:VEVENT
DTSTART;VALUE=DATE:20250927
DTEND;VALUE=DATE:20250929
DTSTAMP:20260421T194750
CREATED:20250321T163418Z
LAST-MODIFIED:20250321T163418Z
UID:2842-1758931200-1759103999@theamericanbrittanyclub.org
SUMMARY:FT: Northern California
DESCRIPTION:Northern California Brittany Club Field Trial \n(pending)
URL:https://theamericanbrittanyclub.org/event/ft-northern-california-2/
LOCATION:-pending-
CATEGORIES:Field Trial
END:VEVENT
BEGIN:VEVENT
DTSTART;VALUE=DATE:20250927
DTEND;VALUE=DATE:20250929
DTSTAMP:20260421T194750
CREATED:20250321T163831Z
LAST-MODIFIED:20260214T041621Z
UID:2844-1758931200-1759103999@theamericanbrittanyclub.org
SUMMARY:FT: Oregon
DESCRIPTION:Oregon Brittany Club Field Trial \n(pending)
URL:https://theamericanbrittanyclub.org/event/ft-oregon/
LOCATION:-pending-
CATEGORIES:Field Trial
END:VEVENT
BEGIN:VEVENT
DTSTART;VALUE=DATE:20250927
DTEND;VALUE=DATE:20250929
DTSTAMP:20260421T194750
CREATED:20250616T222718Z
LAST-MODIFIED:20250616T222718Z
UID:3650-1758931200-1759103999@theamericanbrittanyclub.org
SUMMARY:FT: Ohio
DESCRIPTION:Ohio Brittany Club Field Trial
URL:https://theamericanbrittanyclub.org/event/ft-ohio-2/
LOCATION:-pending-
CATEGORIES:Field Trial
END:VEVENT
BEGIN:VEVENT
DTSTART;VALUE=DATE:20250927
DTEND;VALUE=DATE:20251003
DTSTAMP:20260421T194750
CREATED:20250409T143126Z
LAST-MODIFIED:20250926T130747Z
UID:3224-1758931200-1759449599@theamericanbrittanyclub.org
SUMMARY:FT: Iowa
DESCRIPTION:Iowa Brittany Club Field Trial \n(approved)
URL:https://theamericanbrittanyclub.org/event/ft-iowa-2/
LOCATION:Union County Bird Dog Ranch\, Thayer\, IA\, Thayer\, Iowa
CATEGORIES:Field Trial
END:VEVENT
BEGIN:VEVENT
DTSTART;VALUE=DATE:20251003
DTEND;VALUE=DATE:20251010
DTSTAMP:20260421T194750
CREATED:20250409T143542Z
LAST-MODIFIED:20250926T012839Z
UID:3228-1759449600-1760054399@theamericanbrittanyclub.org
SUMMARY:FT: Hawkeye
DESCRIPTION:Hawkeye Brittany Club Field Trial \n(Approved)
URL:https://theamericanbrittanyclub.org/event/ft-hawkeye/
LOCATION:Union County Bird Dog Ranch\, Thayer\, IA\, Thayer\, Iowa
CATEGORIES:Field Trial
END:VEVENT
BEGIN:VEVENT
DTSTART;VALUE=DATE:20251004
DTEND;VALUE=DATE:20251006
DTSTAMP:20260421T194750
CREATED:20250616T222543Z
LAST-MODIFIED:20250926T132211Z
UID:3648-1759536000-1759708799@theamericanbrittanyclub.org
SUMMARY:FT: Pennsylvania (w)
DESCRIPTION:Pennsylvania Brittany Club Walking Field Trial
URL:https://theamericanbrittanyclub.org/event/ft-pennsylvania-2/
LOCATION:-pending-
CATEGORIES:Field Trial
END:VEVENT
BEGIN:VEVENT
DTSTART;VALUE=DATE:20251004
DTEND;VALUE=DATE:20251008
DTSTAMP:20260421T194750
CREATED:20250617T124103Z
LAST-MODIFIED:20260326T142433Z
UID:3663-1759536000-1759881599@theamericanbrittanyclub.org
SUMMARY:FT: Jim Hoyer Memorial Gun Dog Classic
DESCRIPTION:Jim Hoyer Memorial Gun Dog Classic\nPremium
URL:https://theamericanbrittanyclub.org/event/ft-jim-hoyer-memorial-gun-dog-classic/
LOCATION:Union County Bird Dog Ranch\, Thayer\, IA\, Thayer\, Iowa
CATEGORIES:Field Trial
END:VEVENT
BEGIN:VEVENT
DTSTART;VALUE=DATE:20251010
DTEND;VALUE=DATE:20251014
DTSTAMP:20260421T194750
CREATED:20250616T222314Z
LAST-MODIFIED:20250926T132846Z
UID:3646-1760054400-1760399999@theamericanbrittanyclub.org
SUMMARY:FT: Pennsylvania
DESCRIPTION:Pennsylvania Brittany Club Field Trial
URL:https://theamericanbrittanyclub.org/event/ft-pennsylvania/
LOCATION:-pending-
CATEGORIES:Field Trial
END:VEVENT
BEGIN:VEVENT
DTSTART;VALUE=DATE:20251011
DTEND;VALUE=DATE:20251013
DTSTAMP:20260421T194750
CREATED:20250409T143840Z
LAST-MODIFIED:20250926T132921Z
UID:3234-1760140800-1760313599@theamericanbrittanyclub.org
SUMMARY:FT: Greater Milwaukee
DESCRIPTION:Greater Milwaukee Brittany Club Field Trial \n(pending)
URL:https://theamericanbrittanyclub.org/event/ft-greater-milwaukee-2/
CATEGORIES:Field Trial
END:VEVENT
BEGIN:VEVENT
DTSTART;VALUE=DATE:20251011
DTEND;VALUE=DATE:20251013
DTSTAMP:20260421T194750
CREATED:20250507T212400Z
LAST-MODIFIED:20250507T214605Z
UID:3301-1760140800-1760313599@theamericanbrittanyclub.org
SUMMARY:FT: Southern San Joaquin
DESCRIPTION:Southern San Joaquin Field Trial \n(pending)
URL:https://theamericanbrittanyclub.org/event/ft-southern-san-joaquin/
LOCATION:-pending-
CATEGORIES:Field Trial
END:VEVENT
BEGIN:VEVENT
DTSTART;VALUE=DATE:20251011
DTEND;VALUE=DATE:20251014
DTSTAMP:20260421T194750
CREATED:20250808T164031Z
LAST-MODIFIED:20250808T164538Z
UID:3767-1760140800-1760399999@theamericanbrittanyclub.org
SUMMARY:FT: PENNSYVANIA
DESCRIPTION:AKC licensed Event # 2025148805 \nEntries accepted beginning September 1\, 2025\nEntries will close 7:00 p.m. October 4\, 2025\nDrawing will take place 8:00 p.m. October 4\, 2025\nAt 357 Browns Hill Road\, Valencia\, PA  16059\n\nPhone entries will not be accepted\nEntry fees send to Field Trial Secretary:\nDavid Webb\,\n357 Browns Hill Road\nValencia\, PA 16059 \nMake checks payable to Pennsylvania Brittany Club\n 
URL:https://theamericanbrittanyclub.org/event/ft-pennsyvania/
LOCATION:PENNSYLVANIA BRITTANY CLUB GROUNDS\,  256 Kerr Road\, Polk\, PA\, 16342\, United States
CATEGORIES:Field Trial
END:VEVENT
BEGIN:VEVENT
DTSTART;VALUE=DATE:20251017
DTEND;VALUE=DATE:20251019
DTSTAMP:20260421T194750
CREATED:20250409T144019Z
LAST-MODIFIED:20260214T043223Z
UID:3236-1760659200-1760831999@theamericanbrittanyclub.org
SUMMARY:FT: LaSalle
DESCRIPTION:LaSalle Brittany Club Field Trial \n(pending)
URL:https://theamericanbrittanyclub.org/event/ft-lasalle-2/
LOCATION:Jim Edgar Panther Creek Wildlife Area\, Chandlerville\, IL\, Chandlerville\, Illinois
CATEGORIES:Field Trial
END:VEVENT
BEGIN:VEVENT
DTSTART;VALUE=DATE:20251017
DTEND;VALUE=DATE:20251020
DTSTAMP:20260421T194750
CREATED:20250616T220029Z
LAST-MODIFIED:20251010T214019Z
UID:3644-1760659200-1760918399@theamericanbrittanyclub.org
SUMMARY:FT: Kentucky
DESCRIPTION:Kentucky Brittany Club Field Trial
URL:https://theamericanbrittanyclub.org/event/ft-kentucky/
LOCATION:PENNSYLVANIA BRITTANY CLUB GROUNDS  256 Kerr Road\, Polk\, Pa.\, 256 Kerr Road\, Polk\, PA\, 16342\, United States
CATEGORIES:Field Trial
END:VEVENT
BEGIN:VEVENT
DTSTART;VALUE=DATE:20251018
DTEND;VALUE=DATE:20251020
DTSTAMP:20260421T194750
CREATED:20251008T171034Z
LAST-MODIFIED:20251008T171034Z
UID:4911-1760745600-1760918399@theamericanbrittanyclub.org
SUMMARY:FT: Central New England (w)
DESCRIPTION:Central New England Walking Field Trial
URL:https://theamericanbrittanyclub.org/event/ft-central-new-england-w/
CATEGORIES:Field Trial
END:VEVENT
END:VCALENDAR