BEGIN:VCALENDAR
VERSION:2.0
PRODID:-//The American Brittany Club - ECPv6.15.20//NONSGML v1.0//EN
CALSCALE:GREGORIAN
METHOD:PUBLISH
X-ORIGINAL-URL:https://theamericanbrittanyclub.org
X-WR-CALDESC:Events for The American Brittany Club
REFRESH-INTERVAL;VALUE=DURATION:PT1H
X-Robots-Tag:noindex
X-PUBLISHED-TTL:PT1H
BEGIN:VTIMEZONE
TZID:America/New_York
BEGIN:DAYLIGHT
TZOFFSETFROM:-0500
TZOFFSETTO:-0400
TZNAME:EDT
DTSTART:20240310T070000
END:DAYLIGHT
BEGIN:STANDARD
TZOFFSETFROM:-0400
TZOFFSETTO:-0500
TZNAME:EST
DTSTART:20241103T060000
END:STANDARD
BEGIN:DAYLIGHT
TZOFFSETFROM:-0500
TZOFFSETTO:-0400
TZNAME:EDT
DTSTART:20250309T070000
END:DAYLIGHT
BEGIN:STANDARD
TZOFFSETFROM:-0400
TZOFFSETTO:-0500
TZNAME:EST
DTSTART:20251102T060000
END:STANDARD
BEGIN:DAYLIGHT
TZOFFSETFROM:-0500
TZOFFSETTO:-0400
TZNAME:EDT
DTSTART:20260308T070000
END:DAYLIGHT
BEGIN:STANDARD
TZOFFSETFROM:-0400
TZOFFSETTO:-0500
TZNAME:EST
DTSTART:20261101T060000
END:STANDARD
END:VTIMEZONE
BEGIN:VEVENT
DTSTART;VALUE=DATE:20250502
DTEND;VALUE=DATE:20250505
DTSTAMP:20260422T004926
CREATED:20250306T140830Z
LAST-MODIFIED:20250313T221754Z
UID:2023-1746144000-1746403199@theamericanbrittanyclub.org
SUMMARY:FT: Minnesota
DESCRIPTION:Minnesota Brittany Club\nEvent No: 2025148202\nUnion County Bird Dog Ranch\nThayer\, IA\nWeb Site:http://www.minnesotabrittanyclub.org\nApproved\nFT Pointing Breed\nClosing Date: Saturday – April 26\, 2025\nClosing Time: 12:00:00 PM\nTime Zone: CENTRAL \nFor additional information contact:\nJake Droel\, Event Secretary\nPO Box 320\nOsceola\, IA 50213\n(651) 472-2069\njdroel40@gmail.com
URL:https://theamericanbrittanyclub.org/event/ft-minnesota-brittany-club/
LOCATION:Union County Bird Dog Ranch\, Thayer\, IA\, Thayer\, Iowa
CATEGORIES:Field Trial
END:VEVENT
BEGIN:VEVENT
DTSTART;VALUE=DATE:20250503
DTEND;VALUE=DATE:20250505
DTSTAMP:20260422T004926
CREATED:20250311T170248Z
LAST-MODIFIED:20250313T225331Z
UID:2242-1746230400-1746403199@theamericanbrittanyclub.org
SUMMARY:FT: Eastern & Southern New England
DESCRIPTION:Eastern & Southern New England Brittany Club \n(pending)
URL:https://theamericanbrittanyclub.org/event/ft-eastern-southern-new-england-brittany-club/
LOCATION:-pending-
CATEGORIES:Field Trial
END:VEVENT
BEGIN:VEVENT
DTSTART;VALUE=DATE:20250503
DTEND;VALUE=DATE:20250505
DTSTAMP:20260422T004926
CREATED:20250310T145615Z
LAST-MODIFIED:20250313T225722Z
UID:2213-1746230400-1746403199@theamericanbrittanyclub.org
SUMMARY:FT: St. Croix Valley
DESCRIPTION:St Croix Valley Brittany Club\nEvent No: 2025403301\nFour Brooks Grounds\nHighway 169 North\nMilaca\, MN\nWeb Site:https://www.scvbc.org\nPended\nFT Pointing Breed\nClosing Date: Wednesday – April 30\, 2025\nClosing Time: 06:00:00 AM\nTime Zone: CENTRAL \nFor additional information contact:\nSusan Januschka\, Event Secretary\nN4798 1150th Street\nPrescott\, WI 54021\n(651) 485-4765\ngmount@centurytel.net
URL:https://theamericanbrittanyclub.org/event/ft-st-croix-valley-brittany-club/
LOCATION:Four Brooks Grounds\, Milaca\, MN\, Milaca\, Minnesota
CATEGORIES:Field Trial
END:VEVENT
BEGIN:VEVENT
DTSTART;VALUE=DATE:20250503
DTEND;VALUE=DATE:20250505
DTSTAMP:20260422T004926
CREATED:20250311T170129Z
LAST-MODIFIED:20250313T230343Z
UID:2239-1746230400-1746403199@theamericanbrittanyclub.org
SUMMARY:FT: Pennsylvania
DESCRIPTION:Pennsylvania Brittany Club \n(pending)
URL:https://theamericanbrittanyclub.org/event/ft-pennsylvania-brittany-club-2/
LOCATION:New Jersey
CATEGORIES:Field Trial
END:VEVENT
BEGIN:VEVENT
DTSTART;VALUE=DATE:20250503
DTEND;VALUE=DATE:20250506
DTSTAMP:20260422T004926
CREATED:20250306T141040Z
LAST-MODIFIED:20250313T225238Z
UID:2026-1746230400-1746489599@theamericanbrittanyclub.org
SUMMARY:FT: Northern Colorado
DESCRIPTION:Northern Colorado Brittany Club\nEvent No: 2025487501\nShively Ranch\nBurlington\, CO\nApproved\nFT Pointing Breed\nClosing Date: Tuesday – April 29\, 2025\nClosing Time: 07:00:00 PM\nTime Zone: No Time Zone Available \nFor additional information contact:\nDennis Sullivan\, Event Secretary\n28 PHANTOM RD\nLARAMIE\, WY 82072-8909\n(847) 452-1875\nyodie1991@yahoo.com
URL:https://theamericanbrittanyclub.org/event/ft-northern-colorado-brittany-club/
LOCATION:Shively Ranch\, Burlington\, CO\, Burlington\, Colorado
CATEGORIES:Field Trial
END:VEVENT
BEGIN:VEVENT
DTSTART;VALUE=DATE:20250504
DTEND;VALUE=DATE:20250508
DTSTAMP:20260422T004926
CREATED:20250311T190401Z
LAST-MODIFIED:20250313T225033Z
UID:2280-1746316800-1746662399@theamericanbrittanyclub.org
SUMMARY:FT: Tommy "Lunchbox" Thomas Memorial Brittany GALGD
DESCRIPTION:Tommy “Lunchbox” Thomas Memorial Brittany GALGD\nEvent No: 2025148201\nUnion County Bird Dog Ranch\nThayer\, IA\nWeb Site:http://www.minnesotabrittanyclub.org\nPended\nFT Pointing Breed\nClosing Date: Friday – May 02\, 2025\nClosing Time: 12:00:00 PM\nTime Zone: CENTRAL \nFor additional information contact:\nJake Droel\, Event Secretary\nPO Box 320\nOsceola\, IA 50213\n(651) 472-2069\njdroel40@gmail.com
URL:https://theamericanbrittanyclub.org/event/ft-tommy-lunchbox-thomas-memorial-brittany-galgd/
LOCATION:Union County Bird Dog Ranch\, Thayer\, IA\, Thayer\, Iowa
CATEGORIES:Field Trial
END:VEVENT
END:VCALENDAR