BEGIN:VCALENDAR
VERSION:2.0
PRODID:-//The American Brittany Club - ECPv6.15.20//NONSGML v1.0//EN
CALSCALE:GREGORIAN
METHOD:PUBLISH
X-WR-CALNAME:The American Brittany Club
X-ORIGINAL-URL:https://theamericanbrittanyclub.org
X-WR-CALDESC:Events for The American Brittany Club
REFRESH-INTERVAL;VALUE=DURATION:PT1H
X-Robots-Tag:noindex
X-PUBLISHED-TTL:PT1H
BEGIN:VTIMEZONE
TZID:America/New_York
BEGIN:DAYLIGHT
TZOFFSETFROM:-0500
TZOFFSETTO:-0400
TZNAME:EDT
DTSTART:20250309T070000
END:DAYLIGHT
BEGIN:STANDARD
TZOFFSETFROM:-0400
TZOFFSETTO:-0500
TZNAME:EST
DTSTART:20251102T060000
END:STANDARD
BEGIN:DAYLIGHT
TZOFFSETFROM:-0500
TZOFFSETTO:-0400
TZNAME:EDT
DTSTART:20260308T070000
END:DAYLIGHT
BEGIN:STANDARD
TZOFFSETFROM:-0400
TZOFFSETTO:-0500
TZNAME:EST
DTSTART:20261101T060000
END:STANDARD
BEGIN:DAYLIGHT
TZOFFSETFROM:-0500
TZOFFSETTO:-0400
TZNAME:EDT
DTSTART:20270314T070000
END:DAYLIGHT
BEGIN:STANDARD
TZOFFSETFROM:-0400
TZOFFSETTO:-0500
TZNAME:EST
DTSTART:20271107T060000
END:STANDARD
END:VTIMEZONE
BEGIN:VEVENT
DTSTART;VALUE=DATE:20260417
DTEND;VALUE=DATE:20260420
DTSTAMP:20260419T124132
CREATED:20251008T170910Z
LAST-MODIFIED:20260223T133439Z
UID:4909-1776384000-1776643199@theamericanbrittanyclub.org
SUMMARY:FT: Del Val
DESCRIPTION:Del Val Field Trial\nPremium
URL:https://theamericanbrittanyclub.org/event/ft-del-val-3/
LOCATION:New Jersey
CATEGORIES:Field Trial
END:VEVENT
BEGIN:VEVENT
DTSTART;VALUE=DATE:20260417
DTEND;VALUE=DATE:20260420
DTSTAMP:20260419T124132
CREATED:20251229T155619Z
LAST-MODIFIED:20260214T043725Z
UID:6478-1776384000-1776643199@theamericanbrittanyclub.org
SUMMARY:FT: Badger
DESCRIPTION:Badger Field Trial
URL:https://theamericanbrittanyclub.org/event/ft-badger-2/
LOCATION:New Jersey
CATEGORIES:Field Trial
END:VEVENT
BEGIN:VEVENT
DTSTART;VALUE=DATE:20260417
DTEND;VALUE=DATE:20260424
DTSTAMP:20260419T124132
CREATED:20251008T174533Z
LAST-MODIFIED:20260317T005726Z
UID:4963-1776384000-1776988799@theamericanbrittanyclub.org
SUMMARY:FT: Mo-Valley
DESCRIPTION:Mo-Valley (Mid America OAA Ch)
URL:https://theamericanbrittanyclub.org/event/ft-mo-valley-2/
LOCATION:New Jersey
CATEGORIES:Field Trial
END:VEVENT
BEGIN:VEVENT
DTSTART;VALUE=DATE:20260418
DTEND;VALUE=DATE:20260420
DTSTAMP:20260419T124132
CREATED:20251008T180327Z
LAST-MODIFIED:20260317T005613Z
UID:4991-1776470400-1776643199@theamericanbrittanyclub.org
SUMMARY:FT: Idaho
DESCRIPTION:Idaho field trial
URL:https://theamericanbrittanyclub.org/event/ft-idaho-2/
LOCATION:New Jersey
CATEGORIES:Field Trial
END:VEVENT
BEGIN:VEVENT
DTSTART;VALUE=DATE:20260418
DTEND;VALUE=DATE:20260420
DTSTAMP:20260419T124132
CREATED:20251008T213619Z
LAST-MODIFIED:20260317T005551Z
UID:5033-1776470400-1776643199@theamericanbrittanyclub.org
SUMMARY:FT: Niagara Frontier
DESCRIPTION:Niagara Frontier field trial
URL:https://theamericanbrittanyclub.org/event/ft-niagara-frontier-2/
LOCATION:New Jersey
CATEGORIES:Field Trial
END:VEVENT
END:VCALENDAR